BEGIN:VCALENDAR
VERSION:2.0
PRODID:-//4-H Alberta - ECPv6.15.13//NONSGML v1.0//EN
CALSCALE:GREGORIAN
METHOD:PUBLISH
X-ORIGINAL-URL:https://dev.zentracreatives.com/4hab
X-WR-CALDESC:Events for 4-H Alberta
REFRESH-INTERVAL;VALUE=DURATION:PT1H
X-Robots-Tag:noindex
X-PUBLISHED-TTL:PT1H
BEGIN:VTIMEZONE
TZID:America/Edmonton
BEGIN:DAYLIGHT
TZOFFSETFROM:-0700
TZOFFSETTO:-0600
TZNAME:MDT
DTSTART:20250309T090000
END:DAYLIGHT
BEGIN:STANDARD
TZOFFSETFROM:-0600
TZOFFSETTO:-0700
TZNAME:MST
DTSTART:20251102T080000
END:STANDARD
BEGIN:DAYLIGHT
TZOFFSETFROM:-0700
TZOFFSETTO:-0600
TZNAME:MDT
DTSTART:20260308T090000
END:DAYLIGHT
BEGIN:STANDARD
TZOFFSETFROM:-0600
TZOFFSETTO:-0700
TZNAME:MST
DTSTART:20261101T080000
END:STANDARD
BEGIN:DAYLIGHT
TZOFFSETFROM:-0700
TZOFFSETTO:-0600
TZNAME:MDT
DTSTART:20270314T090000
END:DAYLIGHT
BEGIN:STANDARD
TZOFFSETFROM:-0600
TZOFFSETTO:-0700
TZNAME:MST
DTSTART:20271107T080000
END:STANDARD
END:VTIMEZONE
BEGIN:VEVENT
DTSTART;TZID=America/Edmonton:20260301T080000
DTEND;TZID=America/Edmonton:20260501T120000
DTSTAMP:20260423T054158
CREATED:20260123T091340Z
LAST-MODIFIED:20260412T185842Z
UID:220648-1772352000-1777636800@dev.zentracreatives.com
SUMMARY:2026 4-H Alberta Scholarship Application Open
DESCRIPTION:
URL:https://dev.zentracreatives.com/4hab/events/2026-4-h-alberta-scholarship-application-open/
END:VEVENT
BEGIN:VEVENT
DTSTART;TZID=America/Edmonton:20260408T190000
DTEND;TZID=America/Edmonton:20260408T210000
DTSTAMP:20260423T054158
CREATED:20250924T230032Z
LAST-MODIFIED:20260408T054339Z
UID:218911-1775674800-1775682000@dev.zentracreatives.com
SUMMARY:WC Regional Council Meeting
DESCRIPTION:
URL:https://dev.zentracreatives.com/4hab/events/wc-regional-council-meeting-10/
LOCATION:Lacombe Memorial Centre\, 5214 50 Ave\, Lacombe\, AB T4L 0B6\, Canada
END:VEVENT
END:VCALENDAR