BEGIN:VCALENDAR
VERSION:2.0
PRODID:-//4-H Alberta - ECPv6.15.13//NONSGML v1.0//EN
CALSCALE:GREGORIAN
METHOD:PUBLISH
X-ORIGINAL-URL:https://dev.zentracreatives.com/4hab
X-WR-CALDESC:Events for 4-H Alberta
REFRESH-INTERVAL;VALUE=DURATION:PT1H
X-Robots-Tag:noindex
X-PUBLISHED-TTL:PT1H
BEGIN:VTIMEZONE
TZID:America/Edmonton
BEGIN:DAYLIGHT
TZOFFSETFROM:-0700
TZOFFSETTO:-0600
TZNAME:MDT
DTSTART:20250309T090000
END:DAYLIGHT
BEGIN:STANDARD
TZOFFSETFROM:-0600
TZOFFSETTO:-0700
TZNAME:MST
DTSTART:20251102T080000
END:STANDARD
BEGIN:DAYLIGHT
TZOFFSETFROM:-0700
TZOFFSETTO:-0600
TZNAME:MDT
DTSTART:20260308T090000
END:DAYLIGHT
BEGIN:STANDARD
TZOFFSETFROM:-0600
TZOFFSETTO:-0700
TZNAME:MST
DTSTART:20261101T080000
END:STANDARD
BEGIN:DAYLIGHT
TZOFFSETFROM:-0700
TZOFFSETTO:-0600
TZNAME:MDT
DTSTART:20270314T090000
END:DAYLIGHT
BEGIN:STANDARD
TZOFFSETFROM:-0600
TZOFFSETTO:-0700
TZNAME:MST
DTSTART:20271107T080000
END:STANDARD
END:VTIMEZONE
BEGIN:VEVENT
DTSTART;TZID=America/Edmonton:20260301T080000
DTEND;TZID=America/Edmonton:20260501T120000
DTSTAMP:20260425T044720
CREATED:20260123T091340Z
LAST-MODIFIED:20260412T185842Z
UID:220648-1772352000-1777636800@dev.zentracreatives.com
SUMMARY:2026 4-H Alberta Scholarship Application Open
DESCRIPTION:
URL:https://dev.zentracreatives.com/4hab/events/2026-4-h-alberta-scholarship-application-open/
END:VEVENT
BEGIN:VEVENT
DTSTART;VALUE=DATE:20260410
DTEND;VALUE=DATE:20260412
DTSTAMP:20260425T044720
CREATED:20260319T054347Z
LAST-MODIFIED:20260411T062842Z
UID:221454-1775779200-1775951999@dev.zentracreatives.com
SUMMARY:NE Region Spring Fling Intermediate Camp (Open to ALL Regions) - April 10 & 11; Check in April 10 6:30 pm
DESCRIPTION:Register in the Online Registration System: https://www.4habregistration.ca/signinDeadline to Register: March 26\, 2026 11:59 pm This is a weekend camp that provides opportunity to intermediate members to enjoy some fun and network on  a shorter commitment time frame with fellow 4-H members.   \nOpen to all intermediate Members \nNE Region 2026 Spring Fling Program Overview  \n\n\n\n\n\n\n\nFriday April 10th  \n\n\n\n\n\n6:30-7:00 \n\n\nCampers Check In  \n\n\n\n\n7:00 \n\n\nWelcome Campers \n\n\n\n\n7:15 \n\n\nGroup picture \n\n\n\n\n7:30-8:30 pm \n\n\nGroup Activity  \n\n\n\n\n8:30 pm -11:00 pm  \n\n\nDance party & Snacks \n\n\n\n\n11:00 \n\n\nGet Ready For Lights Out \n\n\n\n\n11:30 \n\n\nLights out! \n\n\n\n\n\n\n\n\nSaturday Apr 11th \n\n\n\n\n\n8:00 \n\n\nWake-up \n\n\n\n\n8:30: 0915 \n\n\nPack & Breakfast with an Ice Breaker during breakfast \n\n\n\n\n09:15-10:15 \n\n\nSession 1  \n\n\n\n\n10:15 – 10:30 \n\n\nSnack  \n\n\n\n\n10:30 11:30 \n\n\nSession 2 \n\n\n\n\n11:30 – 11:45 \n\n\nIce Braker  \n\n\n\n\n11:45-12:45 \n\n\nLunch  \n\n\n\n\n12:45 \n\n\nDepart for Pool (walk) \n\n\n\n\n1:00-2:45  \n\n\nPool Time \n\n\n\n\n3:00 \n\n\nReturn to the Hall (walk) \n\n\n\n\n3:15 – 3:45 \n\n\nClosing Remarks; Certificates; Program Evaluations \n\n\n\n\n4:00 – 4:30  \n\n\nCheck Out
URL:https://dev.zentracreatives.com/4hab/events/ne-region-spring-fling-intermediate-camp-open-to-all-regions-april-10-11-check-in-april-10-630-pm/
CATEGORIES:Northeast
END:VEVENT
BEGIN:VEVENT
DTSTART;VALUE=DATE:20260411
DTEND;VALUE=DATE:20260412
DTSTAMP:20260425T044720
CREATED:20260113T091349Z
LAST-MODIFIED:20260411T185848Z
UID:220381-1775865600-1775951999@dev.zentracreatives.com
SUMMARY:Provincial Communications Competition
DESCRIPTION:
URL:https://dev.zentracreatives.com/4hab/events/provincial-communications-competition/
LOCATION:Student Alumni Centre\, 5250 44 St\, Olds\, AB T4H 1B7\, Canada
END:VEVENT
BEGIN:VEVENT
DTSTART;TZID=America/Edmonton:20260411T150000
DTEND;TZID=America/Edmonton:20260411T180000
DTSTAMP:20260425T044720
CREATED:20260314T061353Z
LAST-MODIFIED:20260411T071349Z
UID:221375-1775919600-1775930400@dev.zentracreatives.com
SUMMARY:Mt View District Multi Judging Competition - Open to all Calgary Region Members
DESCRIPTION:Join the Mountain View District as they host a fun and educational multi judging competition at Olds College.\nThis event is open to all members of the Calgary Region.\nPlease register as a club using the attached form.
URL:https://dev.zentracreatives.com/4hab/events/mt-view-district-multi-judging-competition-open-to-all-calgary-region-members/
LOCATION:Olds College Brawn Arena\, 4500 50 St\, Olds\, AB T4H 1E5
CATEGORIES:Calgary
END:VEVENT
END:VCALENDAR