BEGIN:VCALENDAR
VERSION:2.0
PRODID:-//4-H Alberta - ECPv6.15.13//NONSGML v1.0//EN
CALSCALE:GREGORIAN
METHOD:PUBLISH
X-ORIGINAL-URL:https://dev.zentracreatives.com/4hab
X-WR-CALDESC:Events for 4-H Alberta
REFRESH-INTERVAL;VALUE=DURATION:PT1H
X-Robots-Tag:noindex
X-PUBLISHED-TTL:PT1H
BEGIN:VTIMEZONE
TZID:America/Edmonton
BEGIN:DAYLIGHT
TZOFFSETFROM:-0700
TZOFFSETTO:-0600
TZNAME:MDT
DTSTART:20240310T090000
END:DAYLIGHT
BEGIN:STANDARD
TZOFFSETFROM:-0600
TZOFFSETTO:-0700
TZNAME:MST
DTSTART:20241103T080000
END:STANDARD
BEGIN:DAYLIGHT
TZOFFSETFROM:-0700
TZOFFSETTO:-0600
TZNAME:MDT
DTSTART:20250309T090000
END:DAYLIGHT
BEGIN:STANDARD
TZOFFSETFROM:-0600
TZOFFSETTO:-0700
TZNAME:MST
DTSTART:20251102T080000
END:STANDARD
BEGIN:DAYLIGHT
TZOFFSETFROM:-0700
TZOFFSETTO:-0600
TZNAME:MDT
DTSTART:20260308T090000
END:DAYLIGHT
BEGIN:STANDARD
TZOFFSETFROM:-0600
TZOFFSETTO:-0700
TZNAME:MST
DTSTART:20261101T080000
END:STANDARD
END:VTIMEZONE
BEGIN:VEVENT
DTSTART;VALUE=DATE:20251001
DTEND;VALUE=DATE:20251002
DTSTAMP:20260425T131928
CREATED:20250619T231642Z
LAST-MODIFIED:20250620T231534Z
UID:206167-1759276800-1759363199@dev.zentracreatives.com
SUMMARY:CR Leaders Training - Tentative
DESCRIPTION:
URL:https://dev.zentracreatives.com/4hab/events/cr-leaders-training-tentative/
CATEGORIES:Calgary
END:VEVENT
BEGIN:VEVENT
DTSTART;VALUE=DATE:20251018
DTEND;VALUE=DATE:20251019
DTSTAMP:20260425T131928
CREATED:20250619T231642Z
LAST-MODIFIED:20250620T231534Z
UID:206168-1760745600-1760831999@dev.zentracreatives.com
SUMMARY:CR Aggreg/Scholarship Selections
DESCRIPTION:
URL:https://dev.zentracreatives.com/4hab/events/cr-aggreg-scholarship-selections/
CATEGORIES:Calgary
END:VEVENT
BEGIN:VEVENT
DTSTART;VALUE=DATE:20251018
DTEND;VALUE=DATE:20251019
DTSTAMP:20260425T131928
CREATED:20250619T231642Z
LAST-MODIFIED:20250620T231534Z
UID:206169-1760745600-1760831999@dev.zentracreatives.com
SUMMARY:Portfolio Review
DESCRIPTION:
URL:https://dev.zentracreatives.com/4hab/events/portfolio-review/
CATEGORIES:Calgary
END:VEVENT
BEGIN:VEVENT
DTSTART;VALUE=DATE:20251025
DTEND;VALUE=DATE:20251026
DTSTAMP:20260425T131928
CREATED:20250619T231642Z
LAST-MODIFIED:20250620T231534Z
UID:206170-1761350400-1761436799@dev.zentracreatives.com
SUMMARY:Calgary Region Awards
DESCRIPTION:
URL:https://dev.zentracreatives.com/4hab/events/calgary-region-awards/
CATEGORIES:Calgary
END:VEVENT
BEGIN:VEVENT
DTSTART;TZID=America/Edmonton:20251025T133000
DTEND;TZID=America/Edmonton:20251025T173000
DTSTAMP:20260425T131928
CREATED:20250923T150039Z
LAST-MODIFIED:20251025T160109Z
UID:218877-1761399000-1761413400@dev.zentracreatives.com
SUMMARY:CANCELED:Calgary Regional Awards
DESCRIPTION:
URL:https://dev.zentracreatives.com/4hab/events/calgary-regional-awards-3/
LOCATION:Acme Community Centre\, 139 Allison St\, Acme\, AB T0M 0A0\, Canada
CATEGORIES:Calgary
END:VEVENT
END:VCALENDAR