BEGIN:VCALENDAR
VERSION:2.0
PRODID:-//4-H Alberta - ECPv6.15.13//NONSGML v1.0//EN
CALSCALE:GREGORIAN
METHOD:PUBLISH
X-ORIGINAL-URL:https://dev.zentracreatives.com/4hab
X-WR-CALDESC:Events for 4-H Alberta
REFRESH-INTERVAL;VALUE=DURATION:PT1H
X-Robots-Tag:noindex
X-PUBLISHED-TTL:PT1H
BEGIN:VTIMEZONE
TZID:America/Edmonton
BEGIN:DAYLIGHT
TZOFFSETFROM:-0700
TZOFFSETTO:-0600
TZNAME:MDT
DTSTART:20240310T090000
END:DAYLIGHT
BEGIN:STANDARD
TZOFFSETFROM:-0600
TZOFFSETTO:-0700
TZNAME:MST
DTSTART:20241103T080000
END:STANDARD
BEGIN:DAYLIGHT
TZOFFSETFROM:-0700
TZOFFSETTO:-0600
TZNAME:MDT
DTSTART:20250309T090000
END:DAYLIGHT
BEGIN:STANDARD
TZOFFSETFROM:-0600
TZOFFSETTO:-0700
TZNAME:MST
DTSTART:20251102T080000
END:STANDARD
BEGIN:DAYLIGHT
TZOFFSETFROM:-0700
TZOFFSETTO:-0600
TZNAME:MDT
DTSTART:20260308T090000
END:DAYLIGHT
BEGIN:STANDARD
TZOFFSETFROM:-0600
TZOFFSETTO:-0700
TZNAME:MST
DTSTART:20261101T080000
END:STANDARD
END:VTIMEZONE
BEGIN:VEVENT
DTSTART;VALUE=DATE:20250807
DTEND;VALUE=DATE:20250811
DTSTAMP:20260425T172500
CREATED:20250124T180002Z
LAST-MODIFIED:20250728T233043Z
UID:204231-1754524800-1754870399@dev.zentracreatives.com
SUMMARY:Calgary Regional 4-H Horse Show - Open to All Regions
DESCRIPTION:  Come join the Calgary Regional Horse Committee as we host another fun-filled event at Westerner Park in Red Deer. Compete in English\, Western and Gymkhana events\, and enjoy the team building “fun” events as well. Win fabulous gifts and prizes as you compete for High Point Championships\, and\, if you’re Level 4 or higher\, bring a second horse to get them some show miles without any pressure. \nThis program is open to all 4-H Alberta Regional members\, in Good Standing\, who were involved in equine projects in the 2024/25 club year.
URL:https://dev.zentracreatives.com/4hab/events/calgary-regional-4-h-horse-show-open-to-all-regions/
LOCATION:Westerner Park\, 4847A 19 St\, Red Deer\, AB T4R 2N7\, Canada
CATEGORIES:Calgary
END:VEVENT
END:VCALENDAR