BEGIN:VCALENDAR
VERSION:2.0
PRODID:-//4-H Alberta - ECPv6.15.13//NONSGML v1.0//EN
CALSCALE:GREGORIAN
METHOD:PUBLISH
X-WR-CALNAME:4-H Alberta
X-ORIGINAL-URL:https://dev.zentracreatives.com/4hab
X-WR-CALDESC:Events for 4-H Alberta
REFRESH-INTERVAL;VALUE=DURATION:PT1H
X-Robots-Tag:noindex
X-PUBLISHED-TTL:PT1H
BEGIN:VTIMEZONE
TZID:America/Edmonton
BEGIN:DAYLIGHT
TZOFFSETFROM:-0700
TZOFFSETTO:-0600
TZNAME:MDT
DTSTART:20250309T090000
END:DAYLIGHT
BEGIN:STANDARD
TZOFFSETFROM:-0600
TZOFFSETTO:-0700
TZNAME:MST
DTSTART:20251102T080000
END:STANDARD
BEGIN:DAYLIGHT
TZOFFSETFROM:-0700
TZOFFSETTO:-0600
TZNAME:MDT
DTSTART:20260308T090000
END:DAYLIGHT
BEGIN:STANDARD
TZOFFSETFROM:-0600
TZOFFSETTO:-0700
TZNAME:MST
DTSTART:20261101T080000
END:STANDARD
BEGIN:DAYLIGHT
TZOFFSETFROM:-0700
TZOFFSETTO:-0600
TZNAME:MDT
DTSTART:20270314T090000
END:DAYLIGHT
BEGIN:STANDARD
TZOFFSETFROM:-0600
TZOFFSETTO:-0700
TZNAME:MST
DTSTART:20271107T080000
END:STANDARD
END:VTIMEZONE
BEGIN:VEVENT
DTSTART;TZID=America/Edmonton:20260407T190000
DTEND;TZID=America/Edmonton:20260407T203000
DTSTAMP:20260425T062513
CREATED:20251203T214509Z
LAST-MODIFIED:20260407T061341Z
UID:219882-1775588400-1775593800@dev.zentracreatives.com
SUMMARY:NE Beef Committee Meeting
DESCRIPTION:Andrew Yaremko is inviting you to a scheduled Zoom meeting. \nTopic: AC1\, NE Beef Committee MeetingTime: Apr 7\, 2026 07:00 PM Mountain Time (US and Canada)Join Zoom Meetinghttps://us06web.zoom.us/j/87182553652?pwd=xWNH0h3Omzg1UNVSfmBGdocuVJ1aEw.1 \nMeeting ID: 871 8255 3652Passcode: 229788 \n— \nOne tap mobile+15873281099\,\,87182553652#\,\,\,\,*229788# Canada+16473744685\,\,87182553652#\,\,\,\,*229788# Canada \nJoin instructionshttps://us06web.zoom.us/meetings/87182553652/invitations?signature=JM1YFsq2NOA_lLSDwsptFytDJSyIwA5_PaYdKtTA3uQ
URL:https://dev.zentracreatives.com/4hab/events/ne-beef-committee-meeting/
CATEGORIES:Northeast
END:VEVENT
END:VCALENDAR