BEGIN:VCALENDAR
VERSION:2.0
PRODID:-//4-H Alberta - ECPv6.15.13//NONSGML v1.0//EN
CALSCALE:GREGORIAN
METHOD:PUBLISH
X-ORIGINAL-URL:https://dev.zentracreatives.com/4hab
X-WR-CALDESC:Events for 4-H Alberta
REFRESH-INTERVAL;VALUE=DURATION:PT1H
X-Robots-Tag:noindex
X-PUBLISHED-TTL:PT1H
BEGIN:VTIMEZONE
TZID:America/Edmonton
BEGIN:DAYLIGHT
TZOFFSETFROM:-0700
TZOFFSETTO:-0600
TZNAME:MDT
DTSTART:20240310T090000
END:DAYLIGHT
BEGIN:STANDARD
TZOFFSETFROM:-0600
TZOFFSETTO:-0700
TZNAME:MST
DTSTART:20241103T080000
END:STANDARD
BEGIN:DAYLIGHT
TZOFFSETFROM:-0700
TZOFFSETTO:-0600
TZNAME:MDT
DTSTART:20250309T090000
END:DAYLIGHT
BEGIN:STANDARD
TZOFFSETFROM:-0600
TZOFFSETTO:-0700
TZNAME:MST
DTSTART:20251102T080000
END:STANDARD
BEGIN:DAYLIGHT
TZOFFSETFROM:-0700
TZOFFSETTO:-0600
TZNAME:MDT
DTSTART:20260308T090000
END:DAYLIGHT
BEGIN:STANDARD
TZOFFSETFROM:-0600
TZOFFSETTO:-0700
TZNAME:MST
DTSTART:20261101T080000
END:STANDARD
END:VTIMEZONE
BEGIN:VEVENT
DTSTART;TZID=America/Edmonton:20251215T193000
DTEND;TZID=America/Edmonton:20251215T213000
DTSTAMP:20260423T110034
CREATED:20251210T221439Z
LAST-MODIFIED:20251215T221446Z
UID:219948-1765827000-1765834200@dev.zentracreatives.com
SUMMARY:NE Region Communications Planning Meeting
DESCRIPTION:
URL:https://dev.zentracreatives.com/4hab/events/ne-region-communications-planning-meeting/
CATEGORIES:Northeast
END:VEVENT
BEGIN:VEVENT
DTSTART;TZID=America/Edmonton:20251202T190000
DTEND;TZID=America/Edmonton:20251202T203000
DTSTAMP:20260423T110034
CREATED:20251120T212942Z
LAST-MODIFIED:20251202T214443Z
UID:219703-1764702000-1764707400@dev.zentracreatives.com
SUMMARY:NE Beef Committee Meeting via Zoom 7:00 pm
DESCRIPTION:Andrew Yaremko is inviting you to a scheduled Zoom meeting. \nTopic: AC1 NE Beef Committee Meeting 7:00 pmTime: Dec 2\, 2025 07:00 PM Mountain Time (US and Canada)Join Zoom Meetinghttps://us06web.zoom.us/j/84641636028?pwd=FspF3ZKacNwVa7dZz76TYbhTwpiRjr.1 \nMeeting ID: 846 4163 6028Passcode: 666684 \n— \nOne tap mobile+15873281099\,\,84641636028#\,\,\,\,*666684# Canada+16473744685\,\,84641636028#\,\,\,\,*666684# Canada \nJoin instructionshttps://us06web.zoom.us/meetings/84641636028/invitations?signature=U6nqFt51U8CF5epn2-WlcUf_HfQkkza0gGoaTOKc11A
URL:https://dev.zentracreatives.com/4hab/events/ne-beef-committee-meeting-via-zoom-700-pm/
CATEGORIES:Northeast
END:VEVENT
BEGIN:VEVENT
DTSTART;TZID=America/Edmonton:20251126T193000
DTEND;TZID=America/Edmonton:20251126T213000
DTSTAMP:20260423T110034
CREATED:20251017T233029Z
LAST-MODIFIED:20251126T213107Z
UID:219279-1764185400-1764192600@dev.zentracreatives.com
SUMMARY:NE Horse Committee Meeting - 7:00 pm
DESCRIPTION:Steve Harris is inviting you to a scheduled Zoom meeting. \nTopic: NE Region Horse Committee MeetingTime: Nov 26\, 2025 07:30 PM Mountain Time (US and Canada)Join Zoom Meetinghttps://us06web.zoom.us/j/85633787155?pwd=7tpxXjUczuSnM8jzh4tBI9l9E5pnqT.1 \nMeeting ID: 856 3378 7155Passcode: 427859 \n— \nOne tap mobile+12042727920\,\,85633787155#\,\,\,\,*427859# Canada+14388097799\,\,85633787155#\,\,\,\,*427859# Canada \nJoin instructionshttps://us06web.zoom.us/meetings/85633787155/invitations?signature=VlPOS8N6yaAMSVj8fTZxrYjk48lWLuJKCmG1szFb-wQ
URL:https://dev.zentracreatives.com/4hab/events/ne-horse-committee-meeting-700-pm/
CATEGORIES:Northeast
END:VEVENT
BEGIN:VEVENT
DTSTART;TZID=America/Edmonton:20251101T160000
DTEND;TZID=America/Edmonton:20251101T183000
DTSTAMP:20260423T110034
CREATED:20250903T223018Z
LAST-MODIFIED:20251102T001627Z
UID:218516-1762012800-1762021800@dev.zentracreatives.com
SUMMARY:NE Regional Council Meeting; Hybrid Via Zoom and In Person
DESCRIPTION:  November 1\, 2025; 4:00 pm – Hybrid Zoom & InPerson• Location: 5615-48 Street\, Elk Point\, Alberta(Just north of the Co-op Cardlock in Elk Point) \nJason Boorse\, Regional Council Chair is inviting you to a scheduled Zoom meeting. \nTopic: AC1\, NE Region Council MeetingTime: Nov 1\, 2025 04:00 PM Mountain Time (US and Canada)Join Zoom Meetinghttps://us06web.zoom.us/j/87870936275?pwd=d037iGShundCbZEU9HDEhwiObqqaHS.1 \nMeeting ID: 878 7093 6275Passcode: 805214 \n— \nOne tap mobile+16475580588\,\,87870936275#\,\,\,\,*805214# Canada+17789072071\,\,87870936275#\,\,\,\,*805214# Canada \nJoin instructionshttps://us06web.zoom.us/meetings/87870936275/invitations?signature=t4vIn3cjlPrHGKar7VoeCMULf6aABvw4EJqyOXkypgg\nJoin with Google Meet: https://meet.google.com/pst-wusu-mws\nOr dial: (CA) +1 289-323-9236 PIN: 892285704#\nMore phone numbers: https://tel.meet/pst-wusu-mws?pin=7679945497623&hs=7\nLearn more about Meet at: https://support.google.com/a/users/answer/9282720
URL:https://dev.zentracreatives.com/4hab/events/ne-regional-council-meeting-hybrid-via-zoom-and-in-person/
CATEGORIES:Northeast
ORGANIZER;CN="c_8ttjfl7am07lc8537m4oqmf13c@group.calendar.google.com":MAILTO:c_8ttjfl7am07lc8537m4oqmf13c@group.calendar.google.com
END:VEVENT
BEGIN:VEVENT
DTSTART;VALUE=DATE:20251026
DTEND;VALUE=DATE:20251027
DTSTAMP:20260423T110034
CREATED:20250905T223105Z
LAST-MODIFIED:20251026T234528Z
UID:218562-1761436800-1761523199@dev.zentracreatives.com
SUMMARY:NE SALTT Learning Event
DESCRIPTION:Location: St. Paul AlbertaVenue: Portage College Event Centre \nFor More Details Check out the 4-H Alberta Online Registration System when Registration Opens \nhttps://www.4habregistration.ca/signin
URL:https://dev.zentracreatives.com/4hab/events/ne-saltt-learning-event/
CATEGORIES:Northeast
END:VEVENT
BEGIN:VEVENT
DTSTART;VALUE=DATE:20250915
DTEND;VALUE=DATE:20250916
DTSTAMP:20260423T110034
CREATED:20250905T223104Z
LAST-MODIFIED:20250915T230035Z
UID:218561-1757894400-1757980799@dev.zentracreatives.com
SUMMARY:NE Region SALTT Committee Event Planning Meeting 8 pm
DESCRIPTION:SALTT Committee Event Planning Meeting\nSALTT Learning Event October 26th \nPortage College\, St. Paul
URL:https://dev.zentracreatives.com/4hab/events/ne-region-saltt-committee-event-planning-meeting-8-pm/
CATEGORIES:Northeast
END:VEVENT
BEGIN:VEVENT
DTSTART;VALUE=DATE:20250717
DTEND;VALUE=DATE:20250721
DTSTAMP:20260423T110034
CREATED:20241205T164538Z
LAST-MODIFIED:20250720T004553Z
UID:203471-1752710400-1753055999@dev.zentracreatives.com
SUMMARY:NE Region Horse Camp - Tentative New Dates July 17 check in; Camp Days July 18\, 19 & 20th
DESCRIPTION:Hosting Districts of Lac La Biche & Fort McMurray
URL:https://dev.zentracreatives.com/4hab/events/ne-region-horse-camp-tentative-new-dates-july-17-check-in-camp-days-july-18-19-20th/
CATEGORIES:Northeast
END:VEVENT
BEGIN:VEVENT
DTSTART;VALUE=DATE:20250614
DTEND;VALUE=DATE:20250615
DTSTAMP:20260423T110034
CREATED:20241017T050027Z
LAST-MODIFIED:20250614T230412Z
UID:202671-1749859200-1749945599@dev.zentracreatives.com
SUMMARY:NE Region Female Beef Show: Hosted by Wainwright District & Beef Show Committee
DESCRIPTION:Register in the 4-H Alberta Online Registration System: https://www.4habregistration.ca/signin
URL:https://dev.zentracreatives.com/4hab/events/ne-region-female-beef-show-hosted-by-wainwright-district-beef-show-committee/
CATEGORIES:Northeast
END:VEVENT
BEGIN:VEVENT
DTSTART;VALUE=DATE:20250522
DTEND;VALUE=DATE:20250523
DTSTAMP:20260423T110035
CREATED:20241017T050027Z
LAST-MODIFIED:20250522T223021Z
UID:202670-1747872000-1747958399@dev.zentracreatives.com
SUMMARY:NE Region Female Beef Show Registration Closes: Hosted by Wainwright District
DESCRIPTION:Register in the 4-H Alberta Online Registration System (ORS): https://www.4habregistration.ca/signinEvent Date: June 7St Paul Ag Corral
URL:https://dev.zentracreatives.com/4hab/events/ne-region-female-beef-show-registration-closes-hosted-by-wainwright-district/
CATEGORIES:Northeast
END:VEVENT
BEGIN:VEVENT
DTSTART;VALUE=DATE:20250414
DTEND;VALUE=DATE:20250415
DTSTAMP:20260423T110035
CREATED:20241017T050027Z
LAST-MODIFIED:20250414T220018Z
UID:202669-1744588800-1744675199@dev.zentracreatives.com
SUMMARY:NE Region Female Beef Show Registration Opens: Hosted by Wainwright District
DESCRIPTION:Register in the 4-H Alberta Online Registration System (ORS): https://www.4habregistration.ca/signinEvent Date: June 7Location – St Paul Ag Corral
URL:https://dev.zentracreatives.com/4hab/events/ne-region-female-beef-show-registration-opens-hosted-by-wainwright-district/
CATEGORIES:Northeast
END:VEVENT
BEGIN:VEVENT
DTSTART;VALUE=DATE:20250413
DTEND;VALUE=DATE:20250414
DTSTAMP:20260423T110035
CREATED:20241017T050026Z
LAST-MODIFIED:20250413T214528Z
UID:202664-1744502400-1744588799@dev.zentracreatives.com
SUMMARY:NE Region Beef Learning Event - Hosted by Wainwright District
DESCRIPTION:
URL:https://dev.zentracreatives.com/4hab/events/ne-region-beef-learning-event-hosted-by-wainwright-district/
CATEGORIES:Northeast
END:VEVENT
BEGIN:VEVENT
DTSTART;VALUE=DATE:20250412
DTEND;VALUE=DATE:20250413
DTSTAMP:20260423T110035
CREATED:20241017T050027Z
LAST-MODIFIED:20250412T214515Z
UID:202668-1744416000-1744502399@dev.zentracreatives.com
SUMMARY:NE Region Council Meeting Hybrid 1 pm
DESCRIPTION:1 pm zoom and in person optionLocation: 5615-48 Street\, Elk Point\, Alberta (Just north of the Co-op Cardlock in Elk Point)
URL:https://dev.zentracreatives.com/4hab/events/ne-region-council-meeting-hybrid-1-pm/
CATEGORIES:Northeast
END:VEVENT
BEGIN:VEVENT
DTSTART;VALUE=DATE:20250404
DTEND;VALUE=DATE:20250406
DTSTAMP:20260423T110035
CREATED:20241017T050027Z
LAST-MODIFIED:20250405T214524Z
UID:202667-1743724800-1743897599@dev.zentracreatives.com
SUMMARY:NE Region Spring Fling
DESCRIPTION:
URL:https://dev.zentracreatives.com/4hab/events/ne-region-spring-fling-3/
CATEGORIES:Northeast
END:VEVENT
BEGIN:VEVENT
DTSTART;VALUE=DATE:20250401
DTEND;VALUE=DATE:20250402
DTSTAMP:20260423T110035
CREATED:20250107T183019Z
LAST-MODIFIED:20250401T214523Z
UID:203911-1743465600-1743551999@dev.zentracreatives.com
SUMMARY:NE Region Beef Learning Committee Meeting - 8 pm Zoom
DESCRIPTION:
URL:https://dev.zentracreatives.com/4hab/events/ne-region-beef-learning-committee-meeting-8-pm-zoom/
CATEGORIES:Northeast
END:VEVENT
BEGIN:VEVENT
DTSTART;VALUE=DATE:20250327
DTEND;VALUE=DATE:20250328
DTSTAMP:20260423T110035
CREATED:20241017T050027Z
LAST-MODIFIED:20250327T214533Z
UID:202666-1743033600-1743119999@dev.zentracreatives.com
SUMMARY:NE Region Spring Fling Registration Deadline
DESCRIPTION:Register in the 4-H Online Registration System ORS – https://www.4habregistration.ca/signinApril 4 & 5; Location TBA
URL:https://dev.zentracreatives.com/4hab/events/ne-region-spring-fling-registration-deadline/
CATEGORIES:Northeast
END:VEVENT
BEGIN:VEVENT
DTSTART;VALUE=DATE:20250324
DTEND;VALUE=DATE:20250325
DTSTAMP:20260423T110035
CREATED:20250228T210001Z
LAST-MODIFIED:20250324T214509Z
UID:204778-1742774400-1742860799@dev.zentracreatives.com
SUMMARY:NE REGION SALTT Committee Meeting via Zoom 8pm
DESCRIPTION:
URL:https://dev.zentracreatives.com/4hab/events/ne-region-saltt-committee-meeting-via-zoom-8pm/
CATEGORIES:Northeast
END:VEVENT
BEGIN:VEVENT
DTSTART;VALUE=DATE:20250322
DTEND;VALUE=DATE:20250323
DTSTAMP:20260423T110035
CREATED:20241017T050027Z
LAST-MODIFIED:20250322T214524Z
UID:202665-1742601600-1742687999@dev.zentracreatives.com
SUMMARY:NE Region Communications Competition- Hosted by Beaver District
DESCRIPTION:Register in the 4-H Online Registration System ORS – https://www.4habregistration.ca/signinLocation TBA
URL:https://dev.zentracreatives.com/4hab/events/ne-region-communications-competition-hosted-by-beaver-district/
CATEGORIES:Northeast
END:VEVENT
BEGIN:VEVENT
DTSTART;VALUE=DATE:20250320
DTEND;VALUE=DATE:20250321
DTSTAMP:20260423T110035
CREATED:20250228T210001Z
LAST-MODIFIED:20250320T214510Z
UID:204777-1742428800-1742515199@dev.zentracreatives.com
SUMMARY:NE Region Spring Fling Registration Deadline 11:59 pm
DESCRIPTION:April 4 & 5Intermediate Members in Good Standing  ONLYSt. Jerome’s Catholic School Deadline today 11:59 pm. \nRegister in the ORS: https://www.4habregistration.ca/signin
URL:https://dev.zentracreatives.com/4hab/events/ne-region-spring-fling-registration-deadline-1159-pm/
CATEGORIES:Northeast
END:VEVENT
BEGIN:VEVENT
DTSTART;TZID=America/Edmonton:20250318T190000
DTEND;TZID=America/Edmonton:20250318T200000
DTSTAMP:20260423T110035
CREATED:20241017T050026Z
LAST-MODIFIED:20250318T214501Z
UID:202663-1742324400-1742328000@dev.zentracreatives.com
SUMMARY:NE Region Executive Meeting: on zoom
DESCRIPTION:
URL:https://dev.zentracreatives.com/4hab/events/ne-region-executive-meeting-on-zoom/
CATEGORIES:Northeast
END:VEVENT
BEGIN:VEVENT
DTSTART;VALUE=DATE:20250313
DTEND;VALUE=DATE:20250314
DTSTAMP:20260423T110035
CREATED:20241017T050015Z
LAST-MODIFIED:20250313T214514Z
UID:202661-1741824000-1741910399@dev.zentracreatives.com
SUMMARY:NE Region Communications Registration Deadline
DESCRIPTION:Register in the 4-H Online Registration System ORS – https://www.4habregistration.ca/signin
URL:https://dev.zentracreatives.com/4hab/events/ne-region-communications-registration-deadline/
CATEGORIES:Northeast
END:VEVENT
BEGIN:VEVENT
DTSTART;VALUE=DATE:20250313
DTEND;VALUE=DATE:20250314
DTSTAMP:20260423T110035
CREATED:20241017T050015Z
LAST-MODIFIED:20250313T214514Z
UID:202662-1741824000-1741910399@dev.zentracreatives.com
SUMMARY:NE Region Beef Learning Event Registration Closes
DESCRIPTION:Register in the 4-H Online Registration System ORS – https://www.4habregistration.ca/signinMarch 23; location TBA
URL:https://dev.zentracreatives.com/4hab/events/ne-region-beef-learning-event-registration-closes/
CATEGORIES:Northeast
END:VEVENT
BEGIN:VEVENT
DTSTART;VALUE=DATE:20250311
DTEND;VALUE=DATE:20250312
DTSTAMP:20260423T110035
CREATED:20250108T183012Z
LAST-MODIFIED:20250311T213020Z
UID:203921-1741651200-1741737599@dev.zentracreatives.com
SUMMARY:NE Region Horse Committee Meeting 8pm by Zoom
DESCRIPTION:
URL:https://dev.zentracreatives.com/4hab/events/ne-region-horse-committee-meeting-8pm-by-zoom/
CATEGORIES:Northeast
END:VEVENT
BEGIN:VEVENT
DTSTART;VALUE=DATE:20250310
DTEND;VALUE=DATE:20250311
DTSTAMP:20260423T110035
CREATED:20250228T210001Z
LAST-MODIFIED:20250310T213007Z
UID:204776-1741564800-1741651199@dev.zentracreatives.com
SUMMARY:NE Region Female Beef Show Committee Meeting via zoom 8 pm
DESCRIPTION:
URL:https://dev.zentracreatives.com/4hab/events/ne-region-female-beef-show-committee-meeting-via-zoom-8-pm/
CATEGORIES:Northeast
END:VEVENT
BEGIN:VEVENT
DTSTART;VALUE=DATE:20250228
DTEND;VALUE=DATE:20250301
DTSTAMP:20260423T110035
CREATED:20250228T210001Z
LAST-MODIFIED:20250228T210001Z
UID:204775-1740700800-1740787199@dev.zentracreatives.com
SUMMARY:NE Region Spring Fling (Int Med Camp) Registration Opens
DESCRIPTION:April 4 & 5; Intermediate Members in Good Standing ONLYSt. Jerome’s Catholic School Deadline to Register March 20 at 11:59 pmRegister here: https://www.4habregistration.ca/signin
URL:https://dev.zentracreatives.com/4hab/events/ne-region-spring-fling-int-med-camp-registration-opens/
CATEGORIES:Northeast
END:VEVENT
BEGIN:VEVENT
DTSTART;VALUE=DATE:20250224
DTEND;VALUE=DATE:20250225
DTSTAMP:20260423T110035
CREATED:20241017T050015Z
LAST-MODIFIED:20250224T204505Z
UID:202660-1740355200-1740441599@dev.zentracreatives.com
SUMMARY:NE Communications Competition Registration Opens: Hosted by Beaver District
DESCRIPTION:Register in the 4-H Online Registration System ORS – https://www.4habregistration.ca/signinMarch 22Location TBA
URL:https://dev.zentracreatives.com/4hab/events/ne-communications-competition-registration-opens-hosted-by-beaver-district/
CATEGORIES:Northeast
END:VEVENT
BEGIN:VEVENT
DTSTART;VALUE=DATE:20250217
DTEND;VALUE=DATE:20250218
DTSTAMP:20260423T110035
CREATED:20241017T050015Z
LAST-MODIFIED:20250217T203006Z
UID:202657-1739750400-1739836799@dev.zentracreatives.com
SUMMARY:NE Region Beef Learning Event Registration Opens; Hosted by Wainwright District
DESCRIPTION:Beef learning event – March 23Register in the 4-H Online Registration System ORS – https://www.4habregistration.ca/signin
URL:https://dev.zentracreatives.com/4hab/events/ne-region-beef-learning-event-registration-opens-hosted-by-wainwright-district/
CATEGORIES:Northeast
END:VEVENT
BEGIN:VEVENT
DTSTART;VALUE=DATE:20250213
DTEND;VALUE=DATE:20250214
DTSTAMP:20260423T110035
CREATED:20241017T050015Z
LAST-MODIFIED:20250213T203004Z
UID:202659-1739404800-1739491199@dev.zentracreatives.com
SUMMARY:NE Region SR Member Camp Registration Closes
DESCRIPTION:Register in the 4-H Online Registration System ORS – https://www.4habregistration.ca/signin \nTentative Feb 2025 – Date TBA and Location
URL:https://dev.zentracreatives.com/4hab/events/ne-region-sr-member-camp-registration-closes/
CATEGORIES:Northeast
END:VEVENT
BEGIN:VEVENT
DTSTART;TZID=America/Edmonton:20250210T193000
DTEND;TZID=America/Edmonton:20250210T203000
DTSTAMP:20260423T110035
CREATED:20250107T183006Z
LAST-MODIFIED:20250210T201505Z
UID:203910-1739215800-1739219400@dev.zentracreatives.com
SUMMARY:NE Beef show committee meeting
DESCRIPTION:
URL:https://dev.zentracreatives.com/4hab/events/ne-beef-show-committee-meeting/
LOCATION:Zoom
CATEGORIES:Northeast
END:VEVENT
BEGIN:VEVENT
DTSTART;VALUE=DATE:20250210
DTEND;VALUE=DATE:20250211
DTSTAMP:20260423T110035
CREATED:20241017T050015Z
LAST-MODIFIED:20250210T201505Z
UID:202658-1739145600-1739231999@dev.zentracreatives.com
SUMMARY:NE Region Spring Fling Registration Opens: Hosted by Vermilion River
DESCRIPTION:Register in the 4-H Online Registration System ORS – https://www.4habregistration.ca/signinSpring Fling April 4 & 5; Location TBA
URL:https://dev.zentracreatives.com/4hab/events/ne-region-spring-fling-registration-opens-hosted-by-vermilion-river/
CATEGORIES:Northeast
END:VEVENT
BEGIN:VEVENT
DTSTART;VALUE=DATE:20250201
DTEND;VALUE=DATE:20250202
DTSTAMP:20260423T110035
CREATED:20241017T050014Z
LAST-MODIFIED:20250201T194513Z
UID:202656-1738368000-1738454399@dev.zentracreatives.com
SUMMARY:NE Region You Be the Judge - Lakeland College Vermilion Campus
DESCRIPTION:
URL:https://dev.zentracreatives.com/4hab/events/ne-region-you-be-the-judge-lakeland-college-vermilion-campus/
CATEGORIES:Northeast
END:VEVENT
END:VCALENDAR