BEGIN:VCALENDAR
VERSION:2.0
PRODID:-//4-H Alberta - ECPv6.15.13//NONSGML v1.0//EN
CALSCALE:GREGORIAN
METHOD:PUBLISH
X-WR-CALNAME:4-H Alberta
X-ORIGINAL-URL:https://dev.zentracreatives.com/4hab
X-WR-CALDESC:Events for 4-H Alberta
REFRESH-INTERVAL;VALUE=DURATION:PT1H
X-Robots-Tag:noindex
X-PUBLISHED-TTL:PT1H
BEGIN:VTIMEZONE
TZID:America/Edmonton
BEGIN:DAYLIGHT
TZOFFSETFROM:-0700
TZOFFSETTO:-0600
TZNAME:MDT
DTSTART:20250309T090000
END:DAYLIGHT
BEGIN:STANDARD
TZOFFSETFROM:-0600
TZOFFSETTO:-0700
TZNAME:MST
DTSTART:20251102T080000
END:STANDARD
BEGIN:DAYLIGHT
TZOFFSETFROM:-0700
TZOFFSETTO:-0600
TZNAME:MDT
DTSTART:20260308T090000
END:DAYLIGHT
BEGIN:STANDARD
TZOFFSETFROM:-0600
TZOFFSETTO:-0700
TZNAME:MST
DTSTART:20261101T080000
END:STANDARD
BEGIN:DAYLIGHT
TZOFFSETFROM:-0700
TZOFFSETTO:-0600
TZNAME:MDT
DTSTART:20270314T090000
END:DAYLIGHT
BEGIN:STANDARD
TZOFFSETFROM:-0600
TZOFFSETTO:-0700
TZNAME:MST
DTSTART:20271107T080000
END:STANDARD
BEGIN:DAYLIGHT
TZOFFSETFROM:-0700
TZOFFSETTO:-0600
TZNAME:MDT
DTSTART:20280312T090000
END:DAYLIGHT
BEGIN:STANDARD
TZOFFSETFROM:-0600
TZOFFSETTO:-0700
TZNAME:MST
DTSTART:20281105T080000
END:STANDARD
END:VTIMEZONE
BEGIN:VEVENT
DTSTART;VALUE=DATE:20260529
DTEND;VALUE=DATE:20260601
DTSTAMP:20260423T103237
CREATED:20250924T230032Z
LAST-MODIFIED:20260413T055839Z
UID:218913-1780012800-1780271999@dev.zentracreatives.com
SUMMARY:WC Regional Horse Show
DESCRIPTION:
URL:https://dev.zentracreatives.com/4hab/events/wc-regional-horse-show-4/
LOCATION:Westerner Park\, 4847A 19 St\, Red Deer\, AB T4R 2N7\, Canada
END:VEVENT
BEGIN:VEVENT
DTSTART;TZID=America/Edmonton:20260607T090000
DTEND;TZID=America/Edmonton:20260607T100000
DTSTAMP:20260423T103237
CREATED:20250924T230032Z
LAST-MODIFIED:20260413T055839Z
UID:218915-1780822800-1780826400@dev.zentracreatives.com
SUMMARY:WC Region Female Show
DESCRIPTION:
URL:https://dev.zentracreatives.com/4hab/events/wc-region-female-show/
LOCATION:Lacombe & District Agricultural Society\, 4210 58 St\, Lacombe\, AB T4L 1V8\, Canada
END:VEVENT
BEGIN:VEVENT
DTSTART;TZID=America/Edmonton:20260609T183000
DTEND;TZID=America/Edmonton:20260609T193000
DTSTAMP:20260423T103237
CREATED:20250924T230032Z
LAST-MODIFIED:20260413T055839Z
UID:218916-1781029800-1781033400@dev.zentracreatives.com
SUMMARY:WC Horse Committee Meeting
DESCRIPTION:
URL:https://dev.zentracreatives.com/4hab/events/wc-horse-committee-meeting-8/
END:VEVENT
BEGIN:VEVENT
DTSTART;TZID=America/Edmonton:20260610T190000
DTEND;TZID=America/Edmonton:20260610T210000
DTSTAMP:20260423T103237
CREATED:20250619T231655Z
LAST-MODIFIED:20260413T071336Z
UID:206179-1781118000-1781125200@dev.zentracreatives.com
SUMMARY:Calgary Regional General Mtg - Zoom
DESCRIPTION:
URL:https://dev.zentracreatives.com/4hab/events/cr-regional-mtg-zoom/
CATEGORIES:Calgary
END:VEVENT
BEGIN:VEVENT
DTSTART;VALUE=DATE:20260620
DTEND;VALUE=DATE:20260621
DTSTAMP:20260423T103237
CREATED:20250121T180034Z
LAST-MODIFIED:20250220T190024Z
UID:204082-1781913600-1781999999@dev.zentracreatives.com
SUMMARY:Monthly Scoop Content Deadline
DESCRIPTION:Hello\, \nThis is sending out a brief reminder to those that have any regional news that they would like submitted to the monthly scoop\, to please get it into me! \nThanks\, \nMelanie
URL:https://dev.zentracreatives.com/4hab/events/monthly-scoop-content-deadline-47/
ORGANIZER;CN="c_ff1lmvlnda2oslh7sqsnl11cqk@group.calendar.google.com":MAILTO:c_ff1lmvlnda2oslh7sqsnl11cqk@group.calendar.google.com
END:VEVENT
BEGIN:VEVENT
DTSTART;VALUE=DATE:20260620
DTEND;VALUE=DATE:20260621
DTSTAMP:20260423T103237
CREATED:20250912T224538Z
LAST-MODIFIED:20260412T184335Z
UID:218682-1781913600-1781999999@dev.zentracreatives.com
SUMMARY:NW Regional "Dog Days" Canine Show
DESCRIPTION:Full details and location will be emailed. \nOnline registration is required. https://www.4habregistration.ca/signin
URL:https://dev.zentracreatives.com/4hab/events/nw-regional-dog-days-canine-show/
END:VEVENT
BEGIN:VEVENT
DTSTART;VALUE=DATE:20260630
DTEND;VALUE=DATE:20260702
DTSTAMP:20260423T103237
CREATED:20251126T213107Z
LAST-MODIFIED:20260413T071336Z
UID:219774-1782777600-1782950399@dev.zentracreatives.com
SUMMARY:Calgary Region Casino
DESCRIPTION:
URL:https://dev.zentracreatives.com/4hab/events/calgary-region-casino/
CATEGORIES:Calgary
END:VEVENT
BEGIN:VEVENT
DTSTART;VALUE=DATE:20260702
DTEND;VALUE=DATE:20260705
DTSTAMP:20260423T103237
CREATED:20260204T094336Z
LAST-MODIFIED:20260412T185842Z
UID:220853-1782950400-1783209599@dev.zentracreatives.com
SUMMARY:Provincial Sheep Show
DESCRIPTION:
URL:https://dev.zentracreatives.com/4hab/events/provincial-sheep-show-2/
END:VEVENT
BEGIN:VEVENT
DTSTART;VALUE=DATE:20260702
DTEND;VALUE=DATE:20260705
DTSTAMP:20260423T103237
CREATED:20260204T094336Z
LAST-MODIFIED:20260412T185842Z
UID:220852-1782950400-1783209599@dev.zentracreatives.com
SUMMARY:Provincial Beef Heifer Show
DESCRIPTION:
URL:https://dev.zentracreatives.com/4hab/events/provincial-beef-heifer-show/
LOCATION:Stettler Ag Society
END:VEVENT
BEGIN:VEVENT
DTSTART;VALUE=DATE:20260703
DTEND;VALUE=DATE:20260706
DTSTAMP:20260423T103237
CREATED:20250912T224538Z
LAST-MODIFIED:20260412T184335Z
UID:218684-1783036800-1783295999@dev.zentracreatives.com
SUMMARY:NW Regional Horse Show English / Western
DESCRIPTION:Full details and location will be emailed. \nOnline registration is required. https://www.4habregistration.ca/signin
URL:https://dev.zentracreatives.com/4hab/events/nw-regional-horse-show-english-western/
END:VEVENT
BEGIN:VEVENT
DTSTART;VALUE=DATE:20260706
DTEND;VALUE=DATE:20260708
DTSTAMP:20260423T103237
CREATED:20260115T032847Z
LAST-MODIFIED:20260413T055840Z
UID:220491-1783296000-1783468799@dev.zentracreatives.com
SUMMARY:South 4-H Alberta Light Horse Show - Claresholm
DESCRIPTION:
URL:https://dev.zentracreatives.com/4hab/events/south-4-h-alberta-light-horse-show-claresholm/
END:VEVENT
BEGIN:VEVENT
DTSTART;VALUE=DATE:20260720
DTEND;VALUE=DATE:20260721
DTSTAMP:20260423T103237
CREATED:20250121T180034Z
LAST-MODIFIED:20250220T190024Z
UID:204083-1784505600-1784591999@dev.zentracreatives.com
SUMMARY:Monthly Scoop Content Deadline
DESCRIPTION:Hello\, \nThis is sending out a brief reminder to those that have any regional news that they would like submitted to the monthly scoop\, to please get it into me! \nThanks\, \nMelanie
URL:https://dev.zentracreatives.com/4hab/events/monthly-scoop-content-deadline-48/
ORGANIZER;CN="c_ff1lmvlnda2oslh7sqsnl11cqk@group.calendar.google.com":MAILTO:c_ff1lmvlnda2oslh7sqsnl11cqk@group.calendar.google.com
END:VEVENT
BEGIN:VEVENT
DTSTART;TZID=America/Edmonton:20260728T090000
DTEND;TZID=America/Edmonton:20260728T150000
DTSTAMP:20260423T103237
CREATED:20260204T094336Z
LAST-MODIFIED:20260412T185842Z
UID:220855-1785229200-1785250800@dev.zentracreatives.com
SUMMARY:Beef & Sheep Carcass Windup
DESCRIPTION:
URL:https://dev.zentracreatives.com/4hab/events/beef-sheep-carcass-windup/
LOCATION:Lacombe\, AB\, Canada
END:VEVENT
BEGIN:VEVENT
DTSTART;VALUE=DATE:20260820
DTEND;VALUE=DATE:20260821
DTSTAMP:20260423T103237
CREATED:20250121T180034Z
LAST-MODIFIED:20250220T190024Z
UID:204084-1787184000-1787270399@dev.zentracreatives.com
SUMMARY:Monthly Scoop Content Deadline
DESCRIPTION:Hello\, \nThis is sending out a brief reminder to those that have any regional news that they would like submitted to the monthly scoop\, to please get it into me! \nThanks\, \nMelanie
URL:https://dev.zentracreatives.com/4hab/events/monthly-scoop-content-deadline-49/
ORGANIZER;CN="c_ff1lmvlnda2oslh7sqsnl11cqk@group.calendar.google.com":MAILTO:c_ff1lmvlnda2oslh7sqsnl11cqk@group.calendar.google.com
END:VEVENT
BEGIN:VEVENT
DTSTART;TZID=America/Edmonton:20260902T190000
DTEND;TZID=America/Edmonton:20260902T210000
DTSTAMP:20260423T103237
CREATED:20250619T231655Z
LAST-MODIFIED:20260413T071336Z
UID:206180-1788375600-1788382800@dev.zentracreatives.com
SUMMARY:Calgary Regional General Mtg
DESCRIPTION:
URL:https://dev.zentracreatives.com/4hab/events/cr-general-mtg-2/
LOCATION:TBD
CATEGORIES:Calgary
END:VEVENT
BEGIN:VEVENT
DTSTART;VALUE=DATE:20260918
DTEND;VALUE=DATE:20260921
DTSTAMP:20260423T103237
CREATED:20260403T065840Z
LAST-MODIFIED:20260413T071336Z
UID:221721-1789689600-1789948799@dev.zentracreatives.com
SUMMARY:Calgary Stampede 4-H Rodeo
DESCRIPTION:This fun and informative event is open to all members and cleavers in good standing throughout the province.\nYou do not need to be a horse project member to partcipate! A simple riding test will occur before the event for those members outside the horse project.\nRegistration will open in August on the Calgary Stampede website. Details to come.
URL:https://dev.zentracreatives.com/4hab/events/calgary-stampede-4-h-rodeo-4/
LOCATION:Stampede Park\, 650 25 Ave SE\, Calgary\, AB T2G 4K8\, Canada
CATEGORIES:Calgary
END:VEVENT
BEGIN:VEVENT
DTSTART;VALUE=DATE:20260920
DTEND;VALUE=DATE:20260921
DTSTAMP:20260423T103237
CREATED:20250121T180034Z
LAST-MODIFIED:20250220T190024Z
UID:204085-1789862400-1789948799@dev.zentracreatives.com
SUMMARY:Monthly Scoop Content Deadline
DESCRIPTION:Hello\, \nThis is sending out a brief reminder to those that have any regional news that they would like submitted to the monthly scoop\, to please get it into me! \nThanks\, \nMelanie
URL:https://dev.zentracreatives.com/4hab/events/monthly-scoop-content-deadline-50/
ORGANIZER;CN="c_ff1lmvlnda2oslh7sqsnl11cqk@group.calendar.google.com":MAILTO:c_ff1lmvlnda2oslh7sqsnl11cqk@group.calendar.google.com
END:VEVENT
BEGIN:VEVENT
DTSTART;TZID=America/Edmonton:20260926T090000
DTEND;TZID=America/Edmonton:20260926T100000
DTSTAMP:20260423T103237
CREATED:20260403T065840Z
LAST-MODIFIED:20260413T071337Z
UID:221722-1790413200-1790416800@dev.zentracreatives.com
SUMMARY:Calgary Region Portfolio Marking
DESCRIPTION:
URL:https://dev.zentracreatives.com/4hab/events/calgary-region-portfolio-marking/
LOCATION:TBD
CATEGORIES:Calgary
END:VEVENT
BEGIN:VEVENT
DTSTART;VALUE=DATE:20261020
DTEND;VALUE=DATE:20261021
DTSTAMP:20260423T103237
CREATED:20250121T180045Z
LAST-MODIFIED:20250220T190025Z
UID:204086-1792454400-1792540799@dev.zentracreatives.com
SUMMARY:Monthly Scoop Content Deadline
DESCRIPTION:Hello\, \nThis is sending out a brief reminder to those that have any regional news that they would like submitted to the monthly scoop\, to please get it into me! \nThanks\, \nMelanie
URL:https://dev.zentracreatives.com/4hab/events/monthly-scoop-content-deadline-51/
ORGANIZER;CN="c_ff1lmvlnda2oslh7sqsnl11cqk@group.calendar.google.com":MAILTO:c_ff1lmvlnda2oslh7sqsnl11cqk@group.calendar.google.com
END:VEVENT
BEGIN:VEVENT
DTSTART;VALUE=DATE:20261104
DTEND;VALUE=DATE:20261105
DTSTAMP:20260423T103237
CREATED:20250619T231655Z
LAST-MODIFIED:20251125T212943Z
UID:206181-1793750400-1793836799@dev.zentracreatives.com
SUMMARY:CR General Mtg
DESCRIPTION:
URL:https://dev.zentracreatives.com/4hab/events/cr-general-mtg-3/
CATEGORIES:Calgary
END:VEVENT
BEGIN:VEVENT
DTSTART;TZID=America/Edmonton:20261104T190000
DTEND;TZID=America/Edmonton:20261104T210000
DTSTAMP:20260423T103237
CREATED:20251126T213119Z
LAST-MODIFIED:20260413T071337Z
UID:219776-1793818800-1793826000@dev.zentracreatives.com
SUMMARY:Calgary Regional General Meeting
DESCRIPTION:
URL:https://dev.zentracreatives.com/4hab/events/calgary-regional-general-meeting-2/
CATEGORIES:Calgary
END:VEVENT
BEGIN:VEVENT
DTSTART;VALUE=DATE:20261113
DTEND;VALUE=DATE:20261116
DTSTAMP:20260423T103237
CREATED:20260224T095837Z
LAST-MODIFIED:20260412T185843Z
UID:221101-1794528000-1794787199@dev.zentracreatives.com
SUMMARY:Provincial Equine Leader Forum
DESCRIPTION:
URL:https://dev.zentracreatives.com/4hab/events/provincial-equine-leader-forum/
LOCATION:Alberta 4-H Centre\, 461043 Range Rd 21\, Westerose\, AB T0C 2V0\, Canada
END:VEVENT
BEGIN:VEVENT
DTSTART;VALUE=DATE:20261120
DTEND;VALUE=DATE:20261121
DTSTAMP:20260423T103237
CREATED:20250121T180045Z
LAST-MODIFIED:20250220T190025Z
UID:204087-1795132800-1795219199@dev.zentracreatives.com
SUMMARY:Monthly Scoop Content Deadline
DESCRIPTION:Hello\, \nThis is sending out a brief reminder to those that have any regional news that they would like submitted to the monthly scoop\, to please get it into me! \nThanks\, \nMelanie
URL:https://dev.zentracreatives.com/4hab/events/monthly-scoop-content-deadline-52/
ORGANIZER;CN="c_ff1lmvlnda2oslh7sqsnl11cqk@group.calendar.google.com":MAILTO:c_ff1lmvlnda2oslh7sqsnl11cqk@group.calendar.google.com
END:VEVENT
BEGIN:VEVENT
DTSTART;VALUE=DATE:20261220
DTEND;VALUE=DATE:20261221
DTSTAMP:20260423T103237
CREATED:20250121T180045Z
LAST-MODIFIED:20250220T190037Z
UID:204088-1797724800-1797811199@dev.zentracreatives.com
SUMMARY:Monthly Scoop Content Deadline
DESCRIPTION:Hello\, \nThis is sending out a brief reminder to those that have any regional news that they would like submitted to the monthly scoop\, to please get it into me! \nThanks\, \nMelanie
URL:https://dev.zentracreatives.com/4hab/events/monthly-scoop-content-deadline-53/
ORGANIZER;CN="c_ff1lmvlnda2oslh7sqsnl11cqk@group.calendar.google.com":MAILTO:c_ff1lmvlnda2oslh7sqsnl11cqk@group.calendar.google.com
END:VEVENT
BEGIN:VEVENT
DTSTART;VALUE=DATE:20270120
DTEND;VALUE=DATE:20270121
DTSTAMP:20260423T103237
CREATED:20250120T174540Z
LAST-MODIFIED:20250120T174540Z
UID:204055-1800403200-1800489599@dev.zentracreatives.com
SUMMARY:Monthly Scoop Content Deadline
DESCRIPTION:Hello\, \nThis is sending out a brief reminder to those that have any regional news that they would like submitted to the monthly scoop\, to please get it into me! \nThanks\, \nMelanie
URL:https://dev.zentracreatives.com/4hab/events/monthly-scoop-content-deadline-30/
ORGANIZER;CN="c_ff1lmvlnda2oslh7sqsnl11cqk@group.calendar.google.com":MAILTO:c_ff1lmvlnda2oslh7sqsnl11cqk@group.calendar.google.com
END:VEVENT
BEGIN:VEVENT
DTSTART;VALUE=DATE:20270120
DTEND;VALUE=DATE:20270121
DTSTAMP:20260423T103237
CREATED:20250121T180045Z
LAST-MODIFIED:20250220T190037Z
UID:204089-1800403200-1800489599@dev.zentracreatives.com
SUMMARY:Monthly Scoop Content Deadline
DESCRIPTION:Hello\, \nThis is sending out a brief reminder to those that have any regional news that they would like submitted to the monthly scoop\, to please get it into me! \nThanks\, \nMelanie
URL:https://dev.zentracreatives.com/4hab/events/monthly-scoop-content-deadline-54/
ORGANIZER;CN="c_ff1lmvlnda2oslh7sqsnl11cqk@group.calendar.google.com":MAILTO:c_ff1lmvlnda2oslh7sqsnl11cqk@group.calendar.google.com
END:VEVENT
BEGIN:VEVENT
DTSTART;VALUE=DATE:20270220
DTEND;VALUE=DATE:20270221
DTSTAMP:20260423T103237
CREATED:20250220T190037Z
LAST-MODIFIED:20250220T190037Z
UID:204620-1803081600-1803167999@dev.zentracreatives.com
SUMMARY:Monthly Scoop Content Deadline
DESCRIPTION:Hello\, \nThis is sending out a brief reminder to those that have any regional news that they would like submitted to the monthly scoop\, to please get it into me! \nThanks\, \nMelanie
URL:https://dev.zentracreatives.com/4hab/events/monthly-scoop-content-deadline-55/
ORGANIZER;CN="c_ff1lmvlnda2oslh7sqsnl11cqk@group.calendar.google.com":MAILTO:c_ff1lmvlnda2oslh7sqsnl11cqk@group.calendar.google.com
END:VEVENT
END:VCALENDAR