BEGIN:VCALENDAR
VERSION:2.0
PRODID:-//4-H Alberta - ECPv6.15.13//NONSGML v1.0//EN
CALSCALE:GREGORIAN
METHOD:PUBLISH
X-WR-CALNAME:4-H Alberta
X-ORIGINAL-URL:https://dev.zentracreatives.com/4hab
X-WR-CALDESC:Events for 4-H Alberta
REFRESH-INTERVAL;VALUE=DURATION:PT1H
X-Robots-Tag:noindex
X-PUBLISHED-TTL:PT1H
BEGIN:VTIMEZONE
TZID:America/Edmonton
BEGIN:DAYLIGHT
TZOFFSETFROM:-0700
TZOFFSETTO:-0600
TZNAME:MDT
DTSTART:20260308T090000
END:DAYLIGHT
BEGIN:STANDARD
TZOFFSETFROM:-0600
TZOFFSETTO:-0700
TZNAME:MST
DTSTART:20261101T080000
END:STANDARD
BEGIN:DAYLIGHT
TZOFFSETFROM:-0700
TZOFFSETTO:-0600
TZNAME:MDT
DTSTART:20270314T090000
END:DAYLIGHT
BEGIN:STANDARD
TZOFFSETFROM:-0600
TZOFFSETTO:-0700
TZNAME:MST
DTSTART:20271107T080000
END:STANDARD
BEGIN:DAYLIGHT
TZOFFSETFROM:-0700
TZOFFSETTO:-0600
TZNAME:MDT
DTSTART:20280312T090000
END:DAYLIGHT
BEGIN:STANDARD
TZOFFSETFROM:-0600
TZOFFSETTO:-0700
TZNAME:MST
DTSTART:20281105T080000
END:STANDARD
END:VTIMEZONE
BEGIN:VEVENT
DTSTART;VALUE=DATE:20270120
DTEND;VALUE=DATE:20270121
DTSTAMP:20260423T134041
CREATED:20250120T174540Z
LAST-MODIFIED:20250120T174540Z
UID:204055-1800403200-1800489599@dev.zentracreatives.com
SUMMARY:Monthly Scoop Content Deadline
DESCRIPTION:Hello\, \nThis is sending out a brief reminder to those that have any regional news that they would like submitted to the monthly scoop\, to please get it into me! \nThanks\, \nMelanie
URL:https://dev.zentracreatives.com/4hab/events/monthly-scoop-content-deadline-30/
ORGANIZER;CN="c_ff1lmvlnda2oslh7sqsnl11cqk@group.calendar.google.com":MAILTO:c_ff1lmvlnda2oslh7sqsnl11cqk@group.calendar.google.com
END:VEVENT
BEGIN:VEVENT
DTSTART;VALUE=DATE:20270120
DTEND;VALUE=DATE:20270121
DTSTAMP:20260423T134041
CREATED:20250121T180045Z
LAST-MODIFIED:20250220T190037Z
UID:204089-1800403200-1800489599@dev.zentracreatives.com
SUMMARY:Monthly Scoop Content Deadline
DESCRIPTION:Hello\, \nThis is sending out a brief reminder to those that have any regional news that they would like submitted to the monthly scoop\, to please get it into me! \nThanks\, \nMelanie
URL:https://dev.zentracreatives.com/4hab/events/monthly-scoop-content-deadline-54/
ORGANIZER;CN="c_ff1lmvlnda2oslh7sqsnl11cqk@group.calendar.google.com":MAILTO:c_ff1lmvlnda2oslh7sqsnl11cqk@group.calendar.google.com
END:VEVENT
BEGIN:VEVENT
DTSTART;VALUE=DATE:20270220
DTEND;VALUE=DATE:20270221
DTSTAMP:20260423T134041
CREATED:20250220T190037Z
LAST-MODIFIED:20250220T190037Z
UID:204620-1803081600-1803167999@dev.zentracreatives.com
SUMMARY:Monthly Scoop Content Deadline
DESCRIPTION:Hello\, \nThis is sending out a brief reminder to those that have any regional news that they would like submitted to the monthly scoop\, to please get it into me! \nThanks\, \nMelanie
URL:https://dev.zentracreatives.com/4hab/events/monthly-scoop-content-deadline-55/
ORGANIZER;CN="c_ff1lmvlnda2oslh7sqsnl11cqk@group.calendar.google.com":MAILTO:c_ff1lmvlnda2oslh7sqsnl11cqk@group.calendar.google.com
END:VEVENT
END:VCALENDAR