BEGIN:VCALENDAR
VERSION:2.0
PRODID:-//4-H Alberta - ECPv6.15.13//NONSGML v1.0//EN
CALSCALE:GREGORIAN
METHOD:PUBLISH
X-ORIGINAL-URL:https://dev.zentracreatives.com/4hab
X-WR-CALDESC:Events for 4-H Alberta
REFRESH-INTERVAL;VALUE=DURATION:PT1H
X-Robots-Tag:noindex
X-PUBLISHED-TTL:PT1H
BEGIN:VTIMEZONE
TZID:America/Edmonton
BEGIN:DAYLIGHT
TZOFFSETFROM:-0700
TZOFFSETTO:-0600
TZNAME:MDT
DTSTART:20240310T090000
END:DAYLIGHT
BEGIN:STANDARD
TZOFFSETFROM:-0600
TZOFFSETTO:-0700
TZNAME:MST
DTSTART:20241103T080000
END:STANDARD
BEGIN:DAYLIGHT
TZOFFSETFROM:-0700
TZOFFSETTO:-0600
TZNAME:MDT
DTSTART:20250309T090000
END:DAYLIGHT
BEGIN:STANDARD
TZOFFSETFROM:-0600
TZOFFSETTO:-0700
TZNAME:MST
DTSTART:20251102T080000
END:STANDARD
BEGIN:DAYLIGHT
TZOFFSETFROM:-0700
TZOFFSETTO:-0600
TZNAME:MDT
DTSTART:20260308T090000
END:DAYLIGHT
BEGIN:STANDARD
TZOFFSETFROM:-0600
TZOFFSETTO:-0700
TZNAME:MST
DTSTART:20261101T080000
END:STANDARD
BEGIN:DAYLIGHT
TZOFFSETFROM:-0700
TZOFFSETTO:-0600
TZNAME:MDT
DTSTART:20270314T090000
END:DAYLIGHT
BEGIN:STANDARD
TZOFFSETFROM:-0600
TZOFFSETTO:-0700
TZNAME:MST
DTSTART:20271107T080000
END:STANDARD
END:VTIMEZONE
BEGIN:VEVENT
DTSTART;VALUE=DATE:20260211
DTEND;VALUE=DATE:20260212
DTSTAMP:20260424T132215
CREATED:20251118T214437Z
LAST-MODIFIED:20260211T035845Z
UID:219668-1770768000-1770854399@dev.zentracreatives.com
SUMMARY:Farming Smarter Conference - South 4-H Region Luncheon Speakers
DESCRIPTION:
URL:https://dev.zentracreatives.com/4hab/events/farming-smarter-conference-south-4-h-region-luncheon-speakers/
END:VEVENT
BEGIN:VEVENT
DTSTART;TZID=America/Edmonton:20260210T193000
DTEND;TZID=America/Edmonton:20260210T213000
DTSTAMP:20260424T132215
CREATED:20260206T035847Z
LAST-MODIFIED:20260211T035845Z
UID:220872-1770751800-1770759000@dev.zentracreatives.com
SUMMARY:AC1 South 4-H Region Light Horse Committee Meeting
DESCRIPTION:
URL:https://dev.zentracreatives.com/4hab/events/ac1-south-4-h-region-light-horse-committee-meeting-2/
END:VEVENT
BEGIN:VEVENT
DTSTART;VALUE=DATE:20260206
DTEND;VALUE=DATE:20260207
DTSTAMP:20260424T132215
CREATED:20250904T224513Z
LAST-MODIFIED:20260206T081350Z
UID:218538-1770336000-1770422399@dev.zentracreatives.com
SUMMARY:EC Regional Key Leader Meeting
DESCRIPTION:
URL:https://dev.zentracreatives.com/4hab/events/ec-regional-key-leader-meeting/
LOCATION:Zoom
CATEGORIES:East Central
END:VEVENT
BEGIN:VEVENT
DTSTART;TZID=America/Edmonton:20260204T190000
DTEND;TZID=America/Edmonton:20260204T200000
DTSTAMP:20260424T132215
CREATED:20251122T212952Z
LAST-MODIFIED:20260204T044337Z
UID:219722-1770231600-1770235200@dev.zentracreatives.com
SUMMARY:Calgary Region General Meeting - Zoom
DESCRIPTION:
URL:https://dev.zentracreatives.com/4hab/events/calgary-region-general-meeting-zoom/
CATEGORIES:Calgary
END:VEVENT
BEGIN:VEVENT
DTSTART;VALUE=DATE:20260204
DTEND;VALUE=DATE:20260205
DTSTAMP:20260424T132215
CREATED:20250619T231642Z
LAST-MODIFIED:20250620T231535Z
UID:206173-1770163200-1770249599@dev.zentracreatives.com
SUMMARY:CR General Mtg - Zoom
DESCRIPTION:
URL:https://dev.zentracreatives.com/4hab/events/cr-general-mtg-zoom/
CATEGORIES:Calgary
END:VEVENT
BEGIN:VEVENT
DTSTART;TZID=America/Edmonton:20260130T190000
DTEND;TZID=America/Edmonton:20260130T220000
DTSTAMP:20260424T132215
CREATED:20251118T214437Z
LAST-MODIFIED:20260131T034338Z
UID:219667-1769799600-1769810400@dev.zentracreatives.com
SUMMARY:4-H Alberta Night at the Lethbridge Hurricanes
DESCRIPTION:All tickets must be purchased online through VISITLETHBRIDGEARENA.CA\, using promotion code 4H26
URL:https://dev.zentracreatives.com/4hab/events/4-h-alberta-night-at-the-lethbridge-hurricanes-2/
END:VEVENT
BEGIN:VEVENT
DTSTART;TZID=America/Edmonton:20260129T193000
DTEND;TZID=America/Edmonton:20260129T203000
DTSTAMP:20260424T132215
CREATED:20260109T091340Z
LAST-MODIFIED:20260122T091412Z
UID:220340-1769715000-1769718600@dev.zentracreatives.com
SUMMARY:Judging Learning Series - Virtual
DESCRIPTION:Please register on the ORS – Sessions will be Virtual
URL:https://dev.zentracreatives.com/4hab/events/judging-learning-series-virtual/
END:VEVENT
BEGIN:VEVENT
DTSTART;TZID=America/Edmonton:20260128T190000
DTEND;TZID=America/Edmonton:20260128T200000
DTSTAMP:20260424T132215
CREATED:20250924T230020Z
LAST-MODIFIED:20260128T032841Z
UID:218908-1769626800-1769630400@dev.zentracreatives.com
SUMMARY:WC Regional Council Meeting
DESCRIPTION:
URL:https://dev.zentracreatives.com/4hab/events/wc-regional-council-meeting-9/
LOCATION:Lacombe Memorial Centre\, 5214 50 Ave\, Lacombe\, AB T4L 0B6\, Canada
END:VEVENT
BEGIN:VEVENT
DTSTART;TZID=America/Edmonton:20260128T180000
DTEND;TZID=America/Edmonton:20260128T190000
DTSTAMP:20260424T132215
CREATED:20251211T221446Z
LAST-MODIFIED:20260128T091430Z
UID:219961-1769623200-1769626800@dev.zentracreatives.com
SUMMARY:TD Financial Confidence Workshop #1: Introduction to Money Management
DESCRIPTION:**This Webinar will not be recorded**\nProgram Team 4-H Alberta is inviting you to a scheduled Zoom meeting.\nJoin Zoom Meeting\nhttps://us06web.zoom.us/j/89121504356\nMeeting ID: 891 2150 4356\n—\nOne tap mobile\n+16475580588\,\,89121504356# Canada\n+17789072071\,\,89121504356# Canada\nJoin instructions\nhttps://us06web.zoom.us/meetings/89121504356/invitations?signature=uipdjLWDq-WmSzjbmq4AQZHM38Q-7teYRX1jF2NoE4k
URL:https://dev.zentracreatives.com/4hab/events/td-financial-confidence-workshop-1-introduction-to-money-management/
LOCATION:https://us06web.zoom.us/j/89121504356
END:VEVENT
BEGIN:VEVENT
DTSTART;TZID=America/Edmonton:20260127T190000
DTEND;TZID=America/Edmonton:20260127T210000
DTSTAMP:20260424T132215
CREATED:20251126T221445Z
LAST-MODIFIED:20260128T032842Z
UID:219783-1769540400-1769547600@dev.zentracreatives.com
SUMMARY:South & West Central 4-H Region Virtual Diary Workshop
DESCRIPTION:
URL:https://dev.zentracreatives.com/4hab/events/south-west-central-4-h-region-virtual-diary-workshop/
END:VEVENT
BEGIN:VEVENT
DTSTART;TZID=America/Edmonton:20260127T190000
DTEND;TZID=America/Edmonton:20260127T203000
DTSTAMP:20260424T132215
CREATED:20260106T032839Z
LAST-MODIFIED:20260128T032841Z
UID:220299-1769540400-1769545800@dev.zentracreatives.com
SUMMARY:WC and South Virtual Diary Workshop
DESCRIPTION:
URL:https://dev.zentracreatives.com/4hab/events/wc-and-south-virtual-diary-workshop/
END:VEVENT
BEGIN:VEVENT
DTSTART;TZID=America/Edmonton:20260126T190000
DTEND;TZID=America/Edmonton:20260126T203000
DTSTAMP:20260424T132215
CREATED:20260107T032855Z
LAST-MODIFIED:20260126T035915Z
UID:220309-1769454000-1769459400@dev.zentracreatives.com
SUMMARY:NE Female Beef Planning Committee Meeting - Host St Paul District
DESCRIPTION:
URL:https://dev.zentracreatives.com/4hab/events/ne-female-beef-planning-committee-meeting-host-st-paul-district/
CATEGORIES:Northeast
END:VEVENT
BEGIN:VEVENT
DTSTART;TZID=America/Edmonton:20260126T190000
DTEND;TZID=America/Edmonton:20260126T200000
DTSTAMP:20260424T132215
CREATED:20251122T212952Z
LAST-MODIFIED:20260126T042838Z
UID:219721-1769454000-1769457600@dev.zentracreatives.com
SUMMARY:Calgary Region 4-HOP Leader Meeting - Zoom
DESCRIPTION:
URL:https://dev.zentracreatives.com/4hab/events/calgary-region-4-hop-leader-meeting-zoom/
CATEGORIES:Calgary
END:VEVENT
BEGIN:VEVENT
DTSTART;VALUE=DATE:20260124
DTEND;VALUE=DATE:20260125
DTSTAMP:20260424T132215
CREATED:20250924T230020Z
LAST-MODIFIED:20260124T032846Z
UID:218907-1769212800-1769299199@dev.zentracreatives.com
SUMMARY:WC Regional Multi Species Judging and Consumer Decision Making
DESCRIPTION:
URL:https://dev.zentracreatives.com/4hab/events/wc-regional-multi-species-judging-and-consumer-decision-making-2/
END:VEVENT
BEGIN:VEVENT
DTSTART;TZID=America/Edmonton:20260120T193000
DTEND;TZID=America/Edmonton:20260120T213000
DTSTAMP:20260424T132215
CREATED:20250924T230020Z
LAST-MODIFIED:20260121T032836Z
UID:218906-1768937400-1768944600@dev.zentracreatives.com
SUMMARY:WC Horse Committee Meeting
DESCRIPTION:
URL:https://dev.zentracreatives.com/4hab/events/wc-horse-committee-meeting-5/
LOCATION:Loyal Order Of Moose\, 5000 AB-2A\, Ponoka\, AB T4J 1R7\, Canada
END:VEVENT
BEGIN:VEVENT
DTSTART;VALUE=DATE:20260120
DTEND;VALUE=DATE:20260121
DTSTAMP:20260424T132215
CREATED:20250121T180033Z
LAST-MODIFIED:20250220T190012Z
UID:204077-1768867200-1768953599@dev.zentracreatives.com
SUMMARY:Monthly Scoop Content Deadline
DESCRIPTION:Hello\, \nThis is sending out a brief reminder to those that have any regional news that they would like submitted to the monthly scoop\, to please get it into me! \nThanks\, \nMelanie
URL:https://dev.zentracreatives.com/4hab/events/monthly-scoop-content-deadline-42/
ORGANIZER;CN="c_ff1lmvlnda2oslh7sqsnl11cqk@group.calendar.google.com":MAILTO:c_ff1lmvlnda2oslh7sqsnl11cqk@group.calendar.google.com
END:VEVENT
BEGIN:VEVENT
DTSTART;VALUE=DATE:20260115
DTEND;VALUE=DATE:20260116
DTSTAMP:20260424T132215
CREATED:20250912T224526Z
LAST-MODIFIED:20260115T041343Z
UID:218672-1768435200-1768521599@dev.zentracreatives.com
SUMMARY:Digital Forms DUE for ALL Membership
DESCRIPTION:4-H Alberta’s Good Standing requirement is that ALL digital forms must be signed but January 15th to be in Good Standing. \nThis is a requirement for: \n\nCleaver Kids\nMembers > JR\, INT\, SR\nScreened/Trained Leaders\nScreened Volunteers\nSupporters\n\nIf Digital Forms go unsigned\, this will affect your ability to participate in ANY 4-H activity.
URL:https://dev.zentracreatives.com/4hab/events/digital-forms-due-for-all-membership/
END:VEVENT
BEGIN:VEVENT
DTSTART;VALUE=DATE:20260115
DTEND;VALUE=DATE:20260116
DTSTAMP:20260424T132215
CREATED:20250912T224526Z
LAST-MODIFIED:20260115T041343Z
UID:218673-1768435200-1768521599@dev.zentracreatives.com
SUMMARY:NW Regional Fee Due
DESCRIPTION:NW Regional fees are due from Districts.$300 late fee will be charged.Payable to northwest4htreasurer@gmail.com \nRegional Fees 2025-2026 \n\n$40 / Club\n$4 / Member for Scholarship Fund (excludes Cleavers)
URL:https://dev.zentracreatives.com/4hab/events/nw-regional-fee-due/
END:VEVENT
BEGIN:VEVENT
DTSTART;VALUE=DATE:20260115
DTEND;VALUE=DATE:20260116
DTSTAMP:20260424T132215
CREATED:20250912T224525Z
LAST-MODIFIED:20260115T041342Z
UID:218671-1768435200-1768521599@dev.zentracreatives.com
SUMMARY:NW Regional Presentation & Public Speaking JUDGE SUBMISSION
DESCRIPTION:Each District is to provide 3 Names of Judges for Regional Communications Competitions. \nNames submitted as judges should have experience as a judge\, confirm that they can attend\, and should NOT have judged at club or district level of 2025-2026 club year. \nThere is a late/no name penalty of $300 for each name missing.
URL:https://dev.zentracreatives.com/4hab/events/nw-regional-presentation-public-speaking-judge-submission/
END:VEVENT
BEGIN:VEVENT
DTSTART;VALUE=DATE:20260115
DTEND;VALUE=DATE:20260116
DTSTAMP:20260424T132215
CREATED:20250910T224516Z
LAST-MODIFIED:20260115T041343Z
UID:218643-1768435200-1768521599@dev.zentracreatives.com
SUMMARY:Club Documents Good Standing Deadline
DESCRIPTION:Club documents must be submitted to the Area Coordinator\, pam.gitzel@4hab.com\, to ensure your club is in Good Standing. \n\nClub Constitution\nClub Program Plan/Calendar\nClub Budget\n\nEnsure your voted positions are updated within the club profile.
URL:https://dev.zentracreatives.com/4hab/events/club-documents-good-standing-deadline/
END:VEVENT
BEGIN:VEVENT
DTSTART;TZID=America/Edmonton:20260113T193000
DTEND;TZID=America/Edmonton:20260113T213000
DTSTAMP:20260424T132215
CREATED:20260105T032842Z
LAST-MODIFIED:20260114T032902Z
UID:220278-1768332600-1768339800@dev.zentracreatives.com
SUMMARY:AC 1 South 4-H Region Light Horse Committee Meeting
DESCRIPTION:
URL:https://dev.zentracreatives.com/4hab/events/ac-1-south-4-h-region-light-horse-committee-meeting/
END:VEVENT
BEGIN:VEVENT
DTSTART;TZID=America/Edmonton:20260110T160000
DTEND;TZID=America/Edmonton:20260110T183000
DTSTAMP:20260424T132215
CREATED:20251210T221439Z
LAST-MODIFIED:20260110T032838Z
UID:219950-1768060800-1768069800@dev.zentracreatives.com
SUMMARY:NE Region AGM - 4 pm via Zoom & In Person
DESCRIPTION:Jason Boorse is inviting you to a scheduled Zoom meeting. \nTopic: AC1\, NE Regional Council AGM Time: Jan 10\, 2026 04:00 PM Mountain Time (US and Canada)Join Zoom Meetinghttps://us06web.zoom.us/j/87325416929?pwd=4YZPDgbai1Myu3IkS22UP2i1TaOKrF.1 \nMeeting ID: 873 2541 6929Passcode: 385771 \n— \nOne tap mobile+17789072071\,\,87325416929#\,\,\,\,*385771# Canada+17806660144\,\,87325416929#\,\,\,\,*385771# Canada \nJoin instructionshttps://us06web.zoom.us/meetings/87325416929/invitations?signature=OkKJaJmoywipQ-T3D7Jl7QTCrEjAab-1AwAuVrB9Az4
URL:https://dev.zentracreatives.com/4hab/events/ne-region-agm-4-pm-via-zoom-in-person/
CATEGORIES:Northeast
END:VEVENT
BEGIN:VEVENT
DTSTART;VALUE=DATE:20260109
DTEND;VALUE=DATE:20260112
DTSTAMP:20260424T132215
CREATED:20250924T230020Z
LAST-MODIFIED:20260111T032919Z
UID:218904-1767916800-1768175999@dev.zentracreatives.com
SUMMARY:WC Region Winter Camp
DESCRIPTION:
URL:https://dev.zentracreatives.com/4hab/events/wc-region-winter-camp-2/
LOCATION:461043 Range Rd 21\, Westerose\, AB T0C 2V0
END:VEVENT
BEGIN:VEVENT
DTSTART;VALUE=DATE:20260109
DTEND;VALUE=DATE:20260112
DTSTAMP:20260424T132215
CREATED:20250619T231642Z
LAST-MODIFIED:20260111T041342Z
UID:206172-1767916800-1768175999@dev.zentracreatives.com
SUMMARY:Calgary Region Jr-Int Winter Bonanza
DESCRIPTION:
URL:https://dev.zentracreatives.com/4hab/events/cr-jr-int-winter-bonanza/
LOCATION:Camp Horizon 1 Horizon Road\, Bragg Creek Alberta
CATEGORIES:Calgary
END:VEVENT
BEGIN:VEVENT
DTSTART;TZID=America/Edmonton:20260105T190000
DTEND;TZID=America/Edmonton:20260105T210000
DTSTAMP:20260424T132215
CREATED:20251204T214448Z
LAST-MODIFIED:20260106T032839Z
UID:219893-1767639600-1767646800@dev.zentracreatives.com
SUMMARY:NE Beef Learning Committee Meeting (St. Paul District)
DESCRIPTION:Andrew Yaremko is inviting you to a scheduled Zoom meeting. \nTopic: AC1 NE Beef Learning Committee Meeting (St. Paul District)Time: Jan 5\, 2026 07:00 PM Mountain Time (US and Canada)Join Zoom Meetinghttps://us06web.zoom.us/j/86518946854?pwd=0xDa4pBrc4jnMpKWtNtu7qLpVZdIX3.1 \nMeeting ID: 865 1894 6854Passcode: 432576 \n— \nOne tap mobile+16473744685\,\,86518946854#\,\,\,\,*432576# Canada+16475580588\,\,86518946854#\,\,\,\,*432576# Canada \nJoin instructionshttps://us06web.zoom.us/meetings/86518946854/invitations?signature=9BRUYjcWmUNp9x_gbq-zztJA6Ng_5PHy5lRK1lGNEAI
URL:https://dev.zentracreatives.com/4hab/events/ne-beef-learning-committee-meeting-st-paul-district/
CATEGORIES:Northeast
END:VEVENT
BEGIN:VEVENT
DTSTART;TZID=America/Edmonton:20260103T080000
DTEND;TZID=America/Edmonton:20260103T170000
DTSTAMP:20260424T132215
CREATED:20251118T214437Z
LAST-MODIFIED:20260103T032914Z
UID:219666-1767427200-1767459600@dev.zentracreatives.com
SUMMARY:South 4-H Region Curling\, Hosted by Willow Creek 4-H District
DESCRIPTION:Kick-Off the New Year with our Annual District Curling Event!  \nA jammed pack day of Curling with old and new faces. All participants will be fed a hearty and healthy lunch with some sugar at the end! Prizes / goodie bags will be handed out to all participants. \nThis event is open to Junior\, Intermediate and Senior Members of the South 4-H region.  \nWhen: Jan 3\, 2026Where: Claresholm Curling Club 430 53 Ave E\, Claresholm AB T0L0T0Time: 8:00 am Check-In8:30 am Hit the ice with your team for a quick demonstration on “how to Curl”9:30 am First Draw*There will be a break between games to refuelMinimum of three games12:00 pm break for lunch for one hour \n1:00pm – Return to the ice  \nAfternoon Wrap Up – We aren’t sure how long the event will run\, until we know how many members / teams are participating. Games will be four ends each with the FINALS playing six ends. \nPlease bring your own curling shoes (or clean\, indoor shoes and sliders) and brooms. If you do not have a slider or broom\, please let Jocelyn know. \n  \nCancellation Policy: No refunds after the closing date\, unless the program is cancelled by the organizers. Refunds\, if the event is cancelled will be processed within two weeks of the cancellation date. 
URL:https://dev.zentracreatives.com/4hab/events/south-4-h-region-curling-hosted-by-willow-creek-4-h-district/
END:VEVENT
BEGIN:VEVENT
DTSTART;VALUE=DATE:20260103
DTEND;VALUE=DATE:20260104
DTSTAMP:20260424T132215
CREATED:20250904T224513Z
LAST-MODIFIED:20260103T065837Z
UID:218537-1767398400-1767484799@dev.zentracreatives.com
SUMMARY:EC Regional Fun Day
DESCRIPTION:
URL:https://dev.zentracreatives.com/4hab/events/ec-regional-fun-day-4/
LOCATION:William E. Hay Stettler Secondary Campus\, 5411 50 Ave\, Stettler\, AB T0C 2L2\, Canada
CATEGORIES:East Central
END:VEVENT
BEGIN:VEVENT
DTSTART;VALUE=DATE:20251227
DTEND;VALUE=DATE:20251228
DTSTAMP:20260424T132215
CREATED:20250904T224513Z
LAST-MODIFIED:20251224T215946Z
UID:218536-1766793600-1766879999@dev.zentracreatives.com
SUMMARY:East Central Family Fun Dance
DESCRIPTION:
URL:https://dev.zentracreatives.com/4hab/events/east-central-family-fun-dance/
LOCATION:Youngstown Hall\, Youngstown
CATEGORIES:East Central
END:VEVENT
BEGIN:VEVENT
DTSTART;TZID=America/Edmonton:20251221T200000
DTEND;TZID=America/Edmonton:20251221T210000
DTSTAMP:20260424T132215
CREATED:20251218T224441Z
LAST-MODIFIED:20251221T224437Z
UID:220141-1766347200-1766350800@dev.zentracreatives.com
SUMMARY:(AC1) NW Region Camp Committee Planning Meeting
DESCRIPTION:Area Coordinator 1 is inviting you to a scheduled Zoom meeting.\nJoin Zoom Meeting\nhttps://us06web.zoom.us/j/83842253999?pwd=m4WupNNE2IOq4HAHveFQPcprxYhDkl.1\nMeeting ID: 838 4225 3999\nPasscode: 932350\n—\nOne tap mobile\n+12042727920\,\,83842253999#\,\,\,\,*932350# Canada\n+14388097799\,\,83842253999#\,\,\,\,*932350# Canada\nJoin instructions\nhttps://us06web.zoom.us/meetings/83842253999/invitations?signature=vFDdqU3g-eqF_YsjsVe2qM72l8uqo5fx789zbZExbHg
URL:https://dev.zentracreatives.com/4hab/events/ac1-nw-region-camp-committee-planning-meeting/
LOCATION:https://us06web.zoom.us/j/83842253999?pwd=m4WupNNE2IOq4HAHveFQPcprxYhDkl.1
END:VEVENT
BEGIN:VEVENT
DTSTART;VALUE=DATE:20251220
DTEND;VALUE=DATE:20251221
DTSTAMP:20260424T132215
CREATED:20250121T180033Z
LAST-MODIFIED:20250220T190012Z
UID:204076-1766188800-1766275199@dev.zentracreatives.com
SUMMARY:Monthly Scoop Content Deadline
DESCRIPTION:Hello\, \nThis is sending out a brief reminder to those that have any regional news that they would like submitted to the monthly scoop\, to please get it into me! \nThanks\, \nMelanie
URL:https://dev.zentracreatives.com/4hab/events/monthly-scoop-content-deadline-41/
ORGANIZER;CN="c_ff1lmvlnda2oslh7sqsnl11cqk@group.calendar.google.com":MAILTO:c_ff1lmvlnda2oslh7sqsnl11cqk@group.calendar.google.com
END:VEVENT
END:VCALENDAR